Workbook
Name артикул: #REF!
Name артикул: #REF!
Name роммер: [1]Лист1!$A$1:$C$860

Sheet Оглавление
A12: РОЗНИЧНЫЙ ПРАЙС ЛИСТ
A13: ТЕПЛОТЕХНИЧЕСКОЕ ОБОРУДОВАНИЕ
C14: Трубы PE-Xa/EVOH (Китай) | D14: в каталог >>>
C15: Трубы и фитинги из нержавеющей стали Rommer (Китай) | D15: в каталог >>>
C16: Металлопластиковые трубы NEW!!! | D16: в каталог >>>
C17: Инструмент | D17: в каталог >>>
C18: Секционные радиаторы отопления Rommer (Китай) | D18: в каталог >>>
C19: Конвекторы отопления водяные внутрипольные (Россия) | D19: в каталог >>>
C20: Шаровые краны Rommer ГОСТ | D20: в каталог >>>
C21: Шаровые краны Rommer (Китай) | D21: в каталог >>>
C22: Аксессуары и комплектующие для радиаторов Rommer (Китай) | D22: в каталог >>>
C23: Канализационные станции ROMMER BIOLIFT (Китай) | D23: в каталог >>>
C24: Установки водоснабжения Rommer HYDROLIFT (Китай) | D24: в каталог >>>
C25: Циркуляционные насосы Rommer (Китай) | D25: в каталог >>>
... C29: Теплоизоляция Rommer (Россия) | D29: в каталог >>>
A30: Rommer | C30: Ручной механический инструмент (Россия) | D30: в каталог >>>
C31: Котлы твердотопливные ROMMER (Россия) | D31: в каталог >>>
C32: ROMMER Дымоходы | D32: в каталог >>>
C33: Трехходовые клапаны и сервоприводы ROMMER | D33: в каталог >>>
C34: Коллекторы из нержавеющей стали | D34: в каталог >>>
C35: Rommer термостатические клапаны | D35: в каталог >>>
C36: Погружные скважинные насосы Rommer (Китай) | D36: в каталог >>>
C37: ROMMER Высокоскоростные скважинные насосы | D37: в каталог >>>
C38: Группы быстрого монтажа ROMMER (Китай) | D38: в каталог >>>
C39: ROMMER Автоматика для насосов | D39: в каталог >>>
C40: ROMMER Фланцевые циркуляционные насосы FORCE (Китай) | D40: в каталог >>>
C41: Дренажные насосы Rommer (Китай) | D41: в каталог >>>
C42: Шкафы распределительные Rommer | D42: в каталог >>>
... C52: Коллекторы для систем водоснабжения ROMMER NEW!!! | D52: в каталог >>>

Sheet Rommer Ассортимент
A1: Rommer секционные радиаторы
A2: ='Rommer секционные радиаторы'!B20 -> Артикул | C2: ='Rommer секционные радиаторы'!I20 -> Цена, руб | D2: ='Rommer секционные радиаторы'!K20 -> РИЦ
A3: ='Rommer секционные радиаторы'!B22 -> RAL-1210-050004 | C3: ='Rommer секционные радиаторы'!I22 -> 3943.5915 | D3: ='Rommer секционные радиаторы'!K22 -> 3943
A4: ='Rommer секционные радиаторы'!B23 -> RAL-1210-050006 | C4: ='Rommer секционные радиаторы'!I23 -> 5914.7145 | D4: ='Rommer секционные радиаторы'!K23 -> 5914
A5: ='Rommer секционные радиаторы'!B24 -> RAL-1210-050008 | C5: ='Rommer секционные радиаторы'!I24 -> 7887.1715 | D5: ='Rommer секционные радиаторы'!K24 -> 7887
A6: ='Rommer секционные радиаторы'!B25 -> RAL-1210-050010 | C6: ='Rommer секционные радиаторы'!I25 -> 9859.64 | D6: ='Rommer секционные радиаторы'!K25 -> 9859
A7: ='Rommer секционные радиаторы'!B26 -> RAL-1210-050012 | C7: ='Rommer секционные радиаторы'!I26 -> 11830.763 | D7: ='Rommer секционные радиаторы'!K26 -> 11830
A8: ='Rommer секционные радиаторы'!B27 -> RAL-1210-035004 | C8: ='Rommer секционные радиаторы'!I27 -> 3692.834 | D8: ='Rommer секционные радиаторы'!K27 -> 3693
A9: ='Rommer секционные радиаторы'!B28 -> RAL-1210-035006 | C9: ='Rommer секционные радиаторы'!I28 -> 5539.2625 | D9: ='Rommer секционные радиаторы'!K28 -> 5540
A10: ='Rommer секционные радиаторы'!B29 -> RAL-1210-035008 | C10: ='Rommer секционные радиаторы'!I29 -> 7384.334 | D10: ='Rommer секционные радиаторы'!K29 -> 7383
A11: ='Rommer секционные радиаторы'!B30 -> RAL-1210-035010 | C11: ='Rommer секционные радиаторы'!I30 -> 9229.417 | D11: ='Rommer секционные радиаторы'!K30 -> 9229
A12: ='Rommer секционные радиаторы'!B31 -> RAL-1210-035012 | C12: ='Rommer секционные радиаторы'!I31 -> 11077.18 | D12: ='Rommer секционные радиаторы'!K31 -> 11077
A13: ='Rommer секционные радиаторы'!B44 -> RAL-0210-050004 | C13: ='Rommer секционные радиаторы'!I44 -> 3344.2 | D13: ='Rommer секционные радиаторы'!K44 -> 3344
A14: ='Rommer секционные радиаторы'!B45 -> RAL-0210-050006 | C14: ='Rommer секционные радиаторы'!I45 -> 5016.3115 | D14: ='Rommer секционные радиаторы'!K45 -> 5016
A15: ='Rommer секционные радиаторы'!B46 -> RAL-0210-050008 | C15: ='Rommer секционные радиаторы'!I46 -> 6689.7455 | D15: ='Rommer секционные радиаторы'!K46 -> 6688
A16: ='Rommer секционные радиаторы'!B47 -> RAL-0210-050010 | C16: ='Rommer секционные радиаторы'!I47 -> 8361.857 | D16: ='Rommer секционные радиаторы'!K47 -> 8362
A17: ='Rommer секционные радиаторы'!B48 -> RAL-0210-050012 | C17: ='Rommer секционные радиаторы'!I48 -> 10033.957 | D17: ='Rommer секционные радиаторы'!K48 -> 10034
A18: ='Rommer секционные радиаторы'!B61 -> RAL-3210-050004 | C18: ='Rommer секционные радиаторы'!I61 -> 3377.7225 | D18: ='Rommer секционные радиаторы'!K61 -> 3376
A19: ='Rommer секционные радиаторы'!B62 -> RAL-3210-050006 | C19: ='Rommer секционные радиаторы'!I62 -> 5067.2565 | D19: ='Rommer секционные радиаторы'!K62 -> 5066
A20: ='Rommer секционные радиаторы'!B63 -> RAL-3210-050008 | C20: ='Rommer секционные радиаторы'!I63 -> 6755.4565 | D20: ='Rommer секционные радиаторы'!K63 -> 6754
A21: ='Rommer секционные радиаторы'!B64 -> RAL-3210-050010 | C21: ='Rommer секционные радиаторы'!I64 -> 8443.645 | D21: ='Rommer секционные радиаторы'!K64 -> 8443
A22: ='Rommer секционные радиаторы'!B65 -> RAL-3210-050012 | C22: ='Rommer секционные радиаторы'!I65 -> 10133.179 | D22: ='Rommer секционные радиаторы'!K65 -> 10133
A23: ='Rommer секционные радиаторы'!B66 -> RAL-3210-020006 | C23: ='Rommer секционные радиаторы'!I66 -> 4843.3285 | D23: ='Rommer секционные радиаторы'!K66 -> 4843
A24: ='Rommer секционные радиаторы'!B67 -> RAL-3210-020008 | C24: ='Rommer секционные радиаторы'!I67 -> 6459.113 | D24: ='Rommer секционные радиаторы'!K67 -> 6458
A25: ='Rommer секционные радиаторы'!B68 -> RAL-3210-020010 | C25: ='Rommer секционные радиаторы'!I68 -> 8073.5635 | D25: ='Rommer секционные радиаторы'!K68 -> 8073
A26: ='Rommer секционные радиаторы'!B69 -> RAL-3210-020012 | C26: ='Rommer секционные радиаторы'!I69 -> 9688.0025 | D26: ='Rommer секционные радиаторы'!K69 -> 9688
A27: ='Rommer секционные радиаторы'!B70 -> RAL-3210-020014 | C27: ='Rommer секционные радиаторы'!I70 -> 11301.107 | D27: ='Rommer секционные радиаторы'!K70 -> 11300
A28: ='Rommer секционные радиаторы'!B85 -> RBM-1210-050004 | C28: ='Rommer секционные радиаторы'!I85 -> 4049.166 | D28: ='Rommer секционные радиаторы'!K85 -> 4049
A29: ='Rommer секционные радиаторы'!B86 -> RBM-1210-050006 | C29: ='Rommer секционные радиаторы'!I86 -> 6075.674 | D29: ='Rommer секционные радиаторы'!K86 -> 6076
A30: ='Rommer секционные радиаторы'!B87 -> RBM-1210-050008 | C30: ='Rommer секционные радиаторы'!I87 -> 8099.619 | D30: ='Rommer секционные радиаторы'!K87 -> 8100
A31: ='Rommer секционные радиаторы'!B88 -> RBM-1210-050010 | C31: ='Rommer секционные радиаторы'!I88 -> 10123.564 | D31: ='Rommer секционные радиаторы'!K88 -> 10124
A32: ='Rommer секционные радиаторы'!B89 -> RBM-1210-050012 | C32: ='Rommer секционные радиаторы'!I89 -> 12150.072 | D32: ='Rommer секционные радиаторы'!K89 -> 12150
A33: ='Rommer секционные радиаторы'!B90 -> RBM-1210-035004 | C33: ='Rommer секционные радиаторы'!I90 -> 3806.759 | D33: ='Rommer секционные радиаторы'!K90 -> 3807
A34: ='Rommer секционные радиаторы'!B91 -> RBM-1210-035006 | C34: ='Rommer секционные радиаторы'!I91 -> 5712.696 | D34: ='Rommer секционные радиаторы'!K91 -> 5713
A35: ='Rommer секционные радиаторы'!B92 -> RBM-1210-035008 | C35: ='Rommer секционные радиаторы'!I92 -> 7616.081 | D35: ='Rommer секционные радиаторы'!K92 -> 7616
A36: ='Rommer секционные радиаторы'!B93 -> RBM-1210-035010 | C36: ='Rommer секционные радиаторы'!I93 -> 9519.455 | D36: ='Rommer секционные радиаторы'!K93 -> 9519
A37: ='Rommer секционные радиаторы'!B94 -> RBM-1210-035012 | C37: ='Rommer секционные радиаторы'!I94 -> 11422.84 | D37: ='Rommer секционные радиаторы'!K94 -> 11423
A38: ='Rommer секционные радиаторы'!B107 -> RBM-0210-050004 | C38: ='Rommer секционные радиаторы'!I107 -> 3323.221 | D38: ='Rommer секционные радиаторы'!K107 -> 3323
A39: ='Rommer секционные радиаторы'!B108 -> RBM-0210-050006 | C39: ='Rommer секционные радиаторы'!I108 -> 4984.188 | D39: ='Rommer секционные радиаторы'!K108 -> 4984
A40: ='Rommer секционные радиаторы'!B109 -> RBM-0210-050008 | C40: ='Rommer секционные радиаторы'!I109 -> 6643.868 | D40: ='Rommer секционные радиаторы'!K109 -> 6644
...

Sheet Rommer Трубы PE-Xa
A1: Труба PE-Xa/EVOH Rommer
A4: СКИДКА, % | B4: 0
A8: Артикул | B8: Размер | C8: Упаковка | D8: Цена с НДС, РУБ | E8: Цена с НДС, с учетом скидки, РУБ | H8: РИЦ
A9: Труба PE-Xa/EVOH из сшитого полиэтилена с антидиффузионным слоем для напольного отопления, красная
A10: RPX-0002-101620 | B10: 16х2.0 | C10: 100 | D10: 95.007 | E10: =D10-D10*$B$4/100 -> 95.007 | H10: 90
A11: RPX-0002-241620 | B11: 16х2.0 | C11: 240 | D11: 95.007 | E11: =D11-D11*$B$4/100 -> 95.007 | H11: 90
A12: RPX-0002-501620 | B12: 16х2.0 | C12: 500 | D12: 95.007 | E12: =D12-D12*$B$4/100 -> 95.007 | H12: 90
A13: RPX-0002-101620D | B13: 16х2.0 | C13: 100 | D13: 9501.173 | E13: =D13-D13*$B$4/100 -> 9501.173 | H13: 8973
A14: RPX-0002-241620D | B14: 16х2.0 | C14: 240 | D14: 22802.802 | E14: =D14-D14*$B$4/100 -> 22802.802 | H14: 21536
A15: RPX-0002-501620D | B15: 16х2.0 | C15: 500 | D15: 47505.843 | E15: =D15-D15*$B$4/100 -> 47505.843 | H15: 44867
A16: RPX-0002-002020 | B16: 20х2.0 | C16: 100 | D16: 125.972 | E16: =D16-D16*$B$4/100 -> 125.972 | H16: 119
A17: RPX-0002-242020 | B17: 20х2.0 | C17: 240 | D17: 125.972 | E17: =D17-D17*$B$4/100 -> 125.972 | H17: 119
A18: RPX-0002-502020 | B18: 20х2.0 | C18: 500 | D18: 125.972 | E18: =D18-D18*$B$4/100 -> 125.972 | H18: 119
A19: Трубы PE-Xa/EVOH из сшитого полиэтилена с антидиффузионным слоем для систем холодного, горячего водоснабжения и отопления, универсальная, серая
A20: RPX-0001-001622 | B20: 16х2.2 | C20: 100 | D20: 101.651 | E20: =D20-D20*$B$4/100 -> 101.651 | H20: 96
A21: RPX-0001-241622 | B21: 16х2.2 | C21: 240 | D21: 101.651 | E21: =D21-D21*$B$4/100 -> 101.651 | H21: 96
A22: RPX-0001-501622 | B22: 16х2.2 | C22: 500 | D22: 101.651 | E22: =D22-D22*$B$4/100 -> 101.651 | H22: 96
A23: RPX-0001-002028 | B23: 20х2.8 | C23: 100 | D23: 155.012 | E23: =D23-D23*$B$4/100 -> 155.012 | H23: 146
A24: RPX-0001-002535 | B24: 25х3.5 | C24: 50 | D24: 249.128 | E24: =D24-D24*$B$4/100 -> 249.128 | H24: 235
A25: RPX-0001-003244 | B25: 34х4.4 | C25: 50 | D25: 423.544 | E25: =D25-D25*$B$4/100 -> 423.544 | H25: 400
A27: Трубы стабильные PE-Xa/Al/PE-RT из сшитого полиэтилена с алюминиевым слоем для систем холодного, горячего водоснабжения и отопления, универсальная, серая
A28: RPS-0001-001626 | B28: 16.2x2.6 | C28: 100 | D28: 207 | E28: =D28-D28*$B$4/100 -> 207 | H28: 195
A29: RPS-0001-002029 | B29: 20x2.9 | C29: 100 | D29: 293 | E29: =D29-D29*$B$4/100 -> 293 | H29: 277
A30: RPS-0001-002537 | B30: 25х3.7 | C30: 50 | D30: 413 | E30: =D30-D30*$B$4/100 -> 413 | H30: 390
A31: RPS-0001-003247 | B31: 32х4.7 | C31: 50 | D31: 780 | E31: =D31-D31*$B$4/100 -> 780 | H31: 737

Sheet Rommer аксиальные фитинги
A1: Аксиальные фитинги латунные
A4: СКИДКА, % | B4: 0
A6: Артикул | B6: Размер | C6: Упаковка | D6: Цена с НДС, РУБ | E6: Цена с НДС, с учетом скидки, РУБ | G6: РИЦ | H6: РИЦ
A7: Монтажная гильза
A8: RFA-0020-000016 | B8: 16х2.0-2.6 | C8: 30 / 300 | D8: 94.479 | E8: =D8-D8*$B$4/100 -> 94.479 | G8: =ROUNDDOWN(D8,0) -> 94 | H8: 94
A9: RFA-0020-000020 | B9: 20х2.8 | C9: 20 / 240 | D9: 118.096 | E9: =D9-D9*$B$4/100 -> 118.096 | G9: =ROUNDDOWN(D9,0) -> 118 | H9: 118
A10: RFA-0020-002002 | B10: 20х2.0 | C10: 20 / 240 | D10: 129.91 | E10: =D10-D10*$B$4/100 -> 129.91 | G10: =ROUNDDOWN(D10,0) -> 129 | H10: 130
A11: RFA-0020-000025 | B11: 25х3.5 | C11: 20 / 160 | D11: 165.341 | E11: =D11-D11*$B$4/100 -> 165.341 | G11: =ROUNDDOWN(D11,0) -> 165 | H11: 165
A12: RFA-0020-000032 | B12: 32х4,4 | C12: 10 / 70 | D12: 354.299 | E12: =D12-D12*$B$4/100 -> 354.299 | G12: =ROUNDDOWN(D12,0) -> 354 | H12: 354
A13: Переходник с наружной резьбой
A14: RFA-0001-001612 | B14: 16x1/2" | C14: 10 / 220 | D14: 196.042 | E14: =D14-D14*$B$4/100 -> 196.042 | G14: =ROUNDDOWN(D14,0) -> 196 | H14: 196
A15: RFA-0001-001634 | B15: 16x3/4" | C15: 10 / 180 | D15: 264.539 | E15: =D15-D15*$B$4/100 -> 264.539 | G15: =ROUNDDOWN(D15,0) -> 264 | H15: 264
A16: RFA-0001-002012 | B16: 20x1/2" | C16: 10 / 160 | D16: 226.754 | E16: =D16-D16*$B$4/100 -> 226.754 | G16: =ROUNDDOWN(D16,0) -> 226 | H16: 226
A17: RFA-0001-002034 | B17: 20x3/4" | C17: 10 / 120 | D17: 290.521 | E17: =D17-D17*$B$4/100 -> 290.521 | G17: =ROUNDDOWN(D17,0) -> 290 | H17: 289
A18: RFA-0001-200212 | B18: 20х2.0x1/2 | C18: 10 / 160 | D18: 224.4 | E18: =D18-D18*$B$4/100 -> 224.4 | G18: =ROUNDDOWN(D18,0) -> 224 | H18: 223
A19: RFA-0001-002512 | B19: 25x1/2" | C19: 10 / 120 | D19: 328.317 | E19: =D19-D19*$B$4/100 -> 328.317 | G19: =ROUNDDOWN(D19,0) -> 328 | H19: 327
A20: RFA-0001-002534 | B20: 25x3/4" | C20: 10 / 100 | D20: 401.533 | E20: =D20-D20*$B$4/100 -> 401.533 | G20: =ROUNDDOWN(D20,0) -> 401 | H20: 400
A21: RFA-0001-002510 | B21: 25x1" | C21: 10 / 80 | D21: 500.742 | E21: =D21-D21*$B$4/100 -> 500.742 | G21: =ROUNDDOWN(D21,0) -> 500 | H21: 501
A22: RFA-0001-003234 | B22: 32x3/4" | C22: 5 / 60 | D22: 517.275 | E22: =D22-D22*$B$4/100 -> 517.275 | G22: =ROUNDDOWN(D22,0) -> 517 | H22: 517
A23: RFA-0001-003210 | B23: 32x1" | C23: 5 / 50 | D23: 651.915 | E23: =D23-D23*$B$4/100 -> 651.915 | G23: =ROUNDDOWN(D23,0) -> 651 | H23: 651
A24: Переходник с внутренней резьбой
A25: RFA-0002-001612 | B25: 16x1/2" | C25: 10 / 200 | D25: 212.575 | E25: =D25-D25*$B$4/100 -> 212.575 | G25: =ROUNDDOWN(D25,0) -> 212 | H25: 212
A26: RFA-0002-001634 | B26: 16x3/4" | C26: 10 / 160 | D26: 307.054 | E26: =D26-D26*$B$4/100 -> 307.054 | G26: =ROUNDDOWN(D26,0) -> 307 | H26: 307
A27: RFA-0002-002012 | B27: 20x1/2" | C27: 10 / 150 | D27: 262.185 | E27: =D27-D27*$B$4/100 -> 262.185 | G27: =ROUNDDOWN(D27,0) -> 262 | H27: 262
A28: RFA-0002-002034 | B28: 20x3/4" | C28: 10 / 100 | D28: 333.036 | E28: =D28-D28*$B$4/100 -> 333.036 | G28: =ROUNDDOWN(D28,0) -> 333 | H28: 332
A29: RFA-0002-002534 | B29: 25x3/4" | C29: 10 / 90 | D29: 408.628 | E29: =D29-D29*$B$4/100 -> 408.628 | G29: =ROUNDDOWN(D29,0) -> 408 | H29: 408
A30: RFA-0002-003210 | B30: 32x1" | C30: 5 / 45 | D30: 699.16 | E30: =D30-D30*$B$4/100 -> 699.16 | G30: =ROUNDDOWN(D30,0) -> 699 | H30: 699
A31: Переходник с накидной гайкой (евроконус)
A32: RFA-0034-001634 | B32: 16xG 3/4 | C32: 10 / 110 | D32: 304.7 | E32: =D32-D32*$B$4/100 -> 304.7 | G32: =ROUNDDOWN(D32,0) -> 304 | H32: 304
A33: RFA-0034-002034 | B33: 20xG 3/4 | C33: 10 / 90 | D33: 401.533 | E33: =D33-D33*$B$4/100 -> 401.533 | G33: =ROUNDDOWN(D33,0) -> 401 | H33: 400
A34: Переходник с накидной гайкой
A35: RFA-0019-001612 | B35: 16×1/2" | C35: 10 / 200 | D35: 236.203 | E35: =D35-D35*$B$4/100 -> 236.203 | G35: =ROUNDDOWN(D35,0) -> 236 | H35: 235
A36: RFA-0019-001634 | B36: 16×3/4" | C36: 10 / 180 | D36: 283.448 | E36: =D36-D36*$B$4/100 -> 283.448 | G36: =ROUNDDOWN(D36,0) -> 283 | H36: 284
A37: RFA-0019-002012 | B37: 20×1/2" | C37: 10 / 180 | D37: 276.353 | E37: =D37-D37*$B$4/100 -> 276.353 | G37: =ROUNDDOWN(D37,0) -> 276 | H37: 276
A38: RFA-0019-002034 | B38: 20×3/4" | C38: 10 / 150 | D38: 349.569 | E38: =D38-D38*$B$4/100 -> 349.569 | G38: =ROUNDDOWN(D38,0) -> 349 | H38: 349
A39: RFA-0019-002534 | B39: 25x3/4" | C39: 10 / 90 | D39: 403.909 | E39: =D39-D39*$B$4/100 -> 403.909 | G39: =ROUNDDOWN(D39,0) -> 403 | H39: 403
A40: RFA-0019-002510 | B40: 25×1” | C40: 10 / 70 | D40: 533.808 | E40: =D40-D40*$B$4/100 -> 533.808 | G40: =ROUNDDOWN(D40,0) -> 533 | H40: 534
A41: RFA-0019-003210 | B41: 32x1" | C41: 5 / 45 | D41: 718.047 | E41: =D41-D41*$B$4/100 -> 718.047 | G41: =ROUNDDOWN(D41,0) -> 718 | H41: 718
A42: Муфта соединительная равнопроходная
A43: RFA-0003-000016 | B43: 16 | C43: 10 / 250 | D43: 153.527 | E43: =D43-D43*$B$4/100 -> 153.527 | G43: =ROUNDDOWN(D43,0) -> 153 | H43: 153
...

Sheet Rommer Трубы и фитинги из нерж 
A1: Трубы и фитинги из нержавеющей стали ROMMER
A4: СКИДКА, % | C4: 0
A6: Артикул | B6: Артикул 2 | C6: Размер | D6: Упаковка, м | E6: Цена с НДС, РУБ | F6: Цена с НДС, с учетом скидки, РУБ | H6: РИЦ, руб.
A7: Трубы в штангах из нержавеющей стали SUS 304, 4 метра
A8: RSS-0001-000015 | B8: RSS-1001-000015 | C8: 15х1 | D8: 4/120 | E8: 361.83019 | F8: =E8-E8*$C$4 -> 361.83019 | H8: 330
A9: RSS-0001-000018 | B9: RSS-1001-000018 | C9: 18х1 | D9: 4/120 | E9: 493.52528 | F9: =E9-E9*$C$4 -> 493.52528 | H9: 450
A10: RSS-0001-000022 | B10: RSS-1001-000022 | C10: 22х1.2 | D10: 4/80 | E10: 667.56397 | F10: =E10-E10*$C$4 -> 667.56397 | H10: 608
A11: RSS-0001-000028 | B11: RSS-1001-000028 | C11: 28х1.2 | D11: 4/60 | E11: 862.94142 | F11: =E11-E11*$C$4 -> 862.94142 | H11: 787
A12: RSS-0001-000035 | B12: RSS-1001-000035 | C12: 35х1.5 | D12: 4/40 | E12: 1351.385 | F12: =E12-E12*$C$4 -> 1351.385 | H12: 1231
A13: RSS-0001-000042 | B13: RSS-1001-000042 | C13: 42х1.5 | D13: 4/20 | E13: 1974.9776 | F13: =E13-E13*$C$4 -> 1974.9776 | H13: 1800
A14: RSS-0001-000054 | B14: RSS-1001-000054 | C14: 54х1.5 | D14: 4/20 | E14: 2551.5414 | F14: =E14-E14*$C$4 -> 2551.5414 | H14: 2324
B15: RSS-1001-000076 | C15: 76.1x2.0 | E15: 3827.6785 | F15: =E15-E15*$C$4 -> 3827.6785 | H15: 3487
B16: RSS-1001-000088 | C16: 88.9x2.0 | E16: 4492.4379 | F16: =E16-E16*$C$4 -> 4492.4379 | H16: 4093
B17: RSS-1001-000108 | C17: 108x2.0 | E17: 5781.4843 | F17: =E17-E17*$C$4 -> 5781.4843 | H17: 5268
A18: Трубы в штангах из нержавеющей стали 304, 2 метра
A19: RSS-1001-200015 | C19: 15х1 | E19: 372.68217 | F19: =E19-E19*$C$4 -> 372.68217 | H19: 340
A20: RSS-1001-200018 | C20: 18х1 | E20: 508.33197 | F20: =E20-E20*$C$4 -> 508.33197 | H20: 463
A21: RSS-1001-200022 | C21: 22х1.2 | E21: 687.58797 | F21: =E21-E21*$C$4 -> 687.58797 | H21: 627
A22: RSS-1001-200028 | C22: 28х1.2 | E22: 888.82966 | F22: =E22-E22*$C$4 -> 888.82966 | H22: 810
A23: RSS-1001-200035 | C23: 35х1.5 | E23: 1391.9235 | F23: =E23-E23*$C$4 -> 1391.9235 | H23: 1268
A24: RSS-1001-200042 | C24: 42х1.5 | E24: 2034.2253 | F24: =E24-E24*$C$4 -> 2034.2253 | H24: 1854
A25: RSS-1001-200054 | C25: 54х1.5 | E25: 2628.0897 | F25: =E25-E25*$C$4 -> 2628.0897 | H25: 2395
A26: Артикул | B26: Артикул 2 | C26: Размер | D26: Упаковка, м | E26: Цена с НДС, РУБ | F26: Цена с НДС, с учетом скидки, РУБ | H26: РИЦ, руб.
A27: Трубы в штангах из нержавеющей стали 304, 4 метра Россия
A28: RSS-2001-000018 | C28: 18х1 | E28: 403.788 | F28: =E28-E28*$C$4 -> 403.788 | H28: 367
A29: RSS-2001-000022 | C29: 22х1.2 | E29: 594.396 | F29: =E29-E29*$C$4 -> 594.396 | H29: 542
A30: RSS-2001-000028 | C30: 28х1.2 | E30: 762.432 | F30: =E30-E30*$C$4 -> 762.432 | H30: 694
A31: RSS-2001-000035 | C31: 35х1.5 | E31: 1185.03 | F31: =E31-E31*$C$4 -> 1185.03 | H31: 1080
A32: Артикул | B32: Артикул 2 | C32: Размер | D32: Упаковка, шт. | E32: Цена с НДС, РУБ | F32: Цена с НДС, с учетом скидки, РУБ | H32: РИЦ, руб.
A33: Угольник однораструбный 90° ВПр-НПр
A34: RSS-0002-000015 | B34: RSS-1002-000015 | C34: 15 | D34: 200 | E34: 206.107 | F34: =E34-E34*$C$4 -> 206.107 | H34: 188
A35: RSS-0002-000018 | B35: RSS-1002-000018 | C35: 18 | D35: 150 | E35: 279.466 | F35: =E35-E35*$C$4 -> 279.466 | H35: 254
A36: RSS-0002-000022 | B36: RSS-1002-000022 | C36: 22 | D36: 120 | E36: 316.503 | F36: =E36-E36*$C$4 -> 316.503 | H36: 288
A37: RSS-0002-000028 | B37: RSS-1002-000028 | C37: 28 | D37: 50 | E37: 466.554 | F37: =E37-E37*$C$4 -> 466.554 | H37: 425
A38: RSS-0002-000035 | B38: RSS-1002-000035 | C38: 35 | D38: 40 | E38: 720.137 | F38: =E38-E38*$C$4 -> 720.137 | H38: 656
A39: RSS-0002-000042 | B39: RSS-1002-000042 | C39: 42 | D39: 18 | E39: 1015.124 | F39: =E39-E39*$C$4 -> 1015.124 | H39: 925
A40: RSS-0002-000054 | B40: RSS-1002-000054 | C40: 54 | D40: 10 | E40: 1478.334 | F40: =E40-E40*$C$4 -> 1478.334 | H40: 1346
B41: RSS-1002-000076 | C41: 76.1 | E41: 4216.322 | F41: =E41-E41*$C$4 -> 4216.322 | H41: 4044
B42: RSS-1002-000088 | C42: 88.9 | E42: 5565.747 | F42: =E42-E42*$C$4 -> 5565.747 | H42: 5338
B43: RSS-1002-000108 | C43: 108 | E43: 7160.065 | F43: =E43-E43*$C$4 -> 7160.065 | H43: 6867
...

Sheet Rommer Трубы металлопластиковые
A1: Трубы металлопластиковые PE-RT тип II/AL/PE-RT тип II Rommer
A4: СКИДКА. % | B4: 0
A6: Артикул | B6: Размер | C6: Упаковка | D6: Цена с НДС. РУБ | E6: Цена с НДС. с учетом скидки. РУБ | F6: РИЦ
A7: Труба PE-Xa/EVOH из сшитого полиэтилена с антидиффузионным слоем для напольного отопления. красная
A8: RPM-0002-201620 | B8: 16х2.0 | C8: 200 | D8: 91.37931 | E8: =D8-D8*$B$4/100 -> 91.37931 | F8: 78
A9: RPM-0002-102020 | B9: 20х2.0 | C9: 100 | D9: 146.55172 | E9: =D9-D9*$B$4/100 -> 146.55172 | F9: 125
A10: RPM-0002-052630 | B10: 26х3.0 | C10: 50 | D10: 258.62069 | E10: =D10-D10*$B$4/100 -> 258.62069 | F10: 220
A11: RPM-0002-053230 | B11: 32х3.0 | C11: 50 | D11: 370.68966 | E11: =D11-D11*$B$4/100 -> 370.68966 | F11: 315

Sheet Rommer инструмент
A1: Инструмент Rommer
A4: СКИДКА, % | B4: 0
A7: Артикул | B7: Описание | C7: Упаковка, шт | D7: Цена с НДС, РУБ | E7: Цена с НДС, с учетом скидки, РУБ | G7: РИЦ, руб.
A8: Пресс-инструмент
A9: RPT-0001-012108 | B9: RPT-0001-012108 ROMMER Набор пресс-инструмента (пресс-инструмент, 2 аккумулятора 4.0 Ач, зарядное устройство, пластиковый чемодан) | C9: 1 | D9: 134446.55 | E9: =D9-D9*$B$4/100 -> 134446.55 | G9: 134446
A10: RPT-0002-012108 | B10: RPT-0002-012108 ROMMER Пресс-инструмент V220 + чемодан | C10: 1 | D10: 96724.144 | E10: =D10-D10*$B$4/100 -> 96724.144 | G10: 96724
A11: RPT-0022-012108 | B11: RPT-0022-012108 ROMMER Пресс-инструмент V220 с поворотным механизмом + чемодан | C11: 1 | D11: 96724.144 | E11: =D11-D11*$B$4/100 -> 96724.144 | G11: 96724
A12: Пресс-клещи V профиль для медных труб и труб из нержавебщей стали
A13: RPT-0003-000015 | B13: RPT-0003-000015 ROMMER Пресс-клещи V-профиль, 15 | C13: 1 | D13: 10736.385 | E13: =D13-D13*$B$4/100 -> 10736.385 | G13: 10736
A14: RPT-0003-000018 | B14: RPT-0003-000018 ROMMER Пресс-клещи V-профиль, 18 | C14: 1 | D14: 10736.385 | E14: =D14-D14*$B$4/100 -> 10736.385 | G14: 10736
A15: RPT-0003-000022 | B15: RPT-0003-000022 ROMMER Пресс-клещи V-профиль, 22 | C15: 1 | D15: 10736.385 | E15: =D15-D15*$B$4/100 -> 10736.385 | G15: 10736
A16: RPT-0003-000028 | B16: RPT-0003-000028 ROMMER Пресс-клещи V-профиль, 28 | C16: 1 | D16: 10736.385 | E16: =D16-D16*$B$4/100 -> 10736.385 | G16: 10736
A17: RPT-0003-000035 | B17: RPT-0003-000035 ROMMER Пресс-клещи V-профиль, 35 | C17: 1 | D17: 10736.385 | E17: =D17-D17*$B$4/100 -> 10736.385 | G17: 10736
A18: RPT-0003-000042 | B18: RPT-0003-000042 ROMMER Пресс-клещи V-профиль, 42 | C18: 1 | D18: 17990.687 | E18: =D18-D18*$B$4/100 -> 17990.687 | G18: 17991
A19: RPT-0003-000054 | B19: RPT-0003-000054 ROMMER Пресс-клещи V-профиль, 54 | C19: 1 | D19: 17990.687 | E19: =D19-D19*$B$4/100 -> 17990.687 | G19: 17991
A20: RPT-0003-004254 | B20: RPT-0003-004254 ROMMER Промежуточные клещи 42/54 | C20: 1 | D20: 9865.856 | E20: =D20-D20*$B$4/100 -> 9865.856 | G20: 9866
A21: Пресс-клещи TH профиль для металлопластиковых труб
A22: RPT-0004-000016 | B22: RPT-0004-000016 ROMMER Пресс-клещи TH-профиль, 16 | C22: 1 | D22: 9749.795 | E22: =D22-D22*$B$4/100 -> 9749.795 | G22: 9749
A23: RPT-0004-000020 | B23: RPT-0004-000020 ROMMER Пресс-клещи TH-профиль, 20 | C23: 1 | D23: 9749.795 | E23: =D23-D23*$B$4/100 -> 9749.795 | G23: 9749
A24: RPT-0004-000026 | B24: RPT-0004-000026 ROMMER Пресс-клещи TH-профиль, 26 | C24: 1 | D24: 9749.795 | E24: =D24-D24*$B$4/100 -> 9749.795 | G24: 9749
A25: RPT-0004-000032 | B25: RPT-0004-000032 ROMMER Пресс-клещи TH-профиль, 32 | C25: 1 | D25: 9749.795 | E25: =D25-D25*$B$4/100 -> 9749.795 | G25: 9749
A26: Комплектующие
A27: RPT-0005-184072 | B27: RPT-0005-184072 ROMMER Аккумулятор 18V 4.0Ah 72Wh | C27: 1 | D27: 11413.446 | E27: =D27-D27*$B$4/100 -> 11413.446 | G27: 11414
A28: RPT-0006-000018 | B28: RPT-0006-000018 ROMMER Зарядное устройство 18V | C28: 1 | D28: 7404.903 | E28: =D28-D28*$B$4/100 -> 7404.903 | G28: 7405
A29: RAT-0001-001632 | B29: RAT-0001-001632 ROMMER Комплект аккумуляторного инструмента для аксиальных фитингов (4 насадки: 16x2.0 и 16x2.2; 20x2.8; 25x3.5; 32x4.4) | C29: 1 | D29: 158821.02 | E29: =D29-D29*$B$4/100 -> 158821.02 | G29: 158821
A30: Пресс-инструмент XL
A31: RPT-0003-060100 | B31: RPT-0003-060100 ROMMER Набор пресс-инструмента 76.1-108 (пресс-инструмент, 2 аккумулятора 4.0 Ач, зарядное устройство, пластиковый чемодан) | C31: 1 | D31: 146274.92 | E31: =D31-D31*$B$4/100 -> 146274.92 | G31: 146275
A32: RPT-0003-000108 | B32: RPT-0003-000108 ROMMER Пресс-клещи, 108 | C32: 1 | D32: 50217.475 | E32: =D32-D32*$B$4/100 -> 50217.475 | G32: 50217
A33: RPT-0003-000761 | B33: RPT-0003-000761 ROMMER Пресс-клещи, 76.1 | C33: 1 | D33: 43645.47 | E33: =D33-D33*$B$4/100 -> 43645.47 | G33: 43646
A34: RPT-0003-000889 | B34: RPT-0003-000889 ROMMER Пресс-клещи, 88.9 | C34: 1 | D34: 41197.035 | E34: =D34-D34*$B$4/100 -> 41197.035 | G34: 41197

Sheet Rommer секционные радиаторы
A1: Алюминиевые радиаторы отопления Rommer
A6: СКИДКА, % | B6: 0
A11: Серия Profi
A13: · уникальный дизайн секции;
A14: · разработан ведущими инженерами России;
A15: · стойкая двухэтапная покраска (основной слой по методу катафореза);
A16: · стойкость к гидроударам;
A17: · антикоррозийное покрытие секции;
A18: · соответствие ГОСТ 31311-2005.
A20: Внешний вид | B20: Артикул | C20: Кол-во секций, шт. | D20: Межосевое расстояние, мм | E20: Габаритные размеры 1 секции | H20: Теплоотдача 1 секции, ΔT=70⁰C, Вт | I20: Цена, руб | J20: Цена, с учетом скидки, руб | K20: РИЦ
E21: Высота, мм | F21: Ширина, мм | G21: Глубина, мм
B22: RAL-1210-050004 | C22: 4 | D22: 500 | E22: 576 | F22: 80 | G22: 80 | H22: 157 | I22: 3943.5915 | J22: =I22-I22*$B$6/100 -> 3943.5915 | K22: 3943
B23: RAL-1210-050006 | C23: 6 | I23: 5914.7145 | J23: =I23-I23*$B$6/100 -> 5914.7145 | K23: 5914
B24: RAL-1210-050008 | C24: 8 | I24: 7887.1715 | J24: =I24-I24*$B$6/100 -> 7887.1715 | K24: 7887
B25: RAL-1210-050010 | C25: 10 | I25: 9859.64 | J25: =I25-I25*$B$6/100 -> 9859.64 | K25: 9859
B26: RAL-1210-050012 | C26: 12 | I26: 11830.763 | J26: =I26-I26*$B$6/100 -> 11830.763 | K26: 11830
B27: RAL-1210-035004 | C27: 4 | D27: 350 | E27: 428 | F27: 80 | G27: 80 | H27: 116 | I27: 3692.834 | J27: =I27-I27*$B$6/100 -> 3692.834 | K27: 3693
B28: RAL-1210-035006 | C28: 6 | I28: 5539.2625 | J28: =I28-I28*$B$6/100 -> 5539.2625 | K28: 5540
B29: RAL-1210-035008 | C29: 8 | I29: 7384.334 | J29: =I29-I29*$B$6/100 -> 7384.334 | K29: 7383
B30: RAL-1210-035010 | C30: 10 | I30: 9229.417 | J30: =I30-I30*$B$6/100 -> 9229.417 | K30: 9229
B31: RAL-1210-035012 | C31: 12 | I31: 11077.18 | J31: =I31-I31*$B$6/100 -> 11077.18 | K31: 11077
A33: Серия Optima
A35: · толщина стенки вертикального коллектора – 1.8 мм;
A36: · идеальное решение для объектного строительства;
A37: · разработан специально для эксплуатации в России;
A38: · антикоррозийное покрытие;
A39: · стойкая двухэтапная покраска (основной слой по методу катафореза);
A40: · соответствует ГОСТ 31311-2005.
A42: Внешний вид | B42: Артикул | C42: Кол-во секций, шт. | D42: Межосевое расстояние, мм | E42: Габаритные размеры 1 секции | H42: Теплоотдача 1 секции, ΔT=70⁰C, Вт | I42: Цена, руб | J42: Цена, с учетом скидки, руб | K42: РИЦ
E43: Высота, мм | F43: Ширина, мм | G43: Глубина, мм
B44: RAL-0210-050004 | C44: 4 | D44: 500 | E44: 568 | F44: 77 | G44: 78 | H44: 133.4 | I44: 3344.2 | J44: =I44-I44*$B$6/100 -> 3344.2 | K44: 3344
B45: RAL-0210-050006 | C45: 6 | I45: 5016.3115 | J45: =I45-I45*$B$6/100 -> 5016.3115 | K45: 5016
B46: RAL-0210-050008 | C46: 8 | I46: 6689.7455 | J46: =I46-I46*$B$6/100 -> 6689.7455 | K46: 6688
B47: RAL-0210-050010 | C47: 10 | I47: 8361.857 | J47: =I47-I47*$B$6/100 -> 8361.857 | K47: 8362
B48: RAL-0210-050012 | C48: 12 | I48: 10033.957 | J48: =I48-I48*$B$6/100 -> 10033.957 | K48: 10034
A50: Серия Plus
A52: · увеличенная глубина секции – 96 мм;
A53: · толщина стенки вертикального коллектора – 1.8 мм;
A54: · антикоррозийное покрытие секции;
A55: · стойкая двухэтапная покраска (основной слой по методу катафореза);
...

Sheet Rommer Конвекторы внутрипольные
A1: Внутрипольные конвекторы
A4: Скидка | B4: 0
A11: Информация
A12: Краткая техническая информация: Рабочее давление - 15 атм. Давление опрессовки - 25 атм. Температура теплоносителя - 120⁰С Подключение - внутренняя резьба 1/2 Гарантия: теплообменник и кожух конвектора - 10 лет вентиляторы - 1 год комплектующие - 1 год
A13: Артикул | B13: Габаритные размеры прибора | E13: Теплоотдача, Вт | F13: Цена с НДС, руб | G13: Цена с НДС, с учетом скидки, РУБ | I13: РИЦ
B14: Высота, мм | C14: Ширина, мм | D14: Длина, мм | E14: 95/85, 20 ⁰С, скорость вращения вентилятора 100%
A15: RCN1-1000-0820080 | B15: 80 | C15: 200 | D15: 800 | E15: 220 | F15: 17548 | G15: =(F15-F15*$B$4) -> 17548 | I15: 15793
A16: RCN1-1000-0820090 | B16: 80 | C16: 200 | D16: 900 | E16: 262 | F16: 19274 | G16: =(F16-F16*$B$4) -> 19274 | I16: 17347
A17: RCN1-1000-0820100 | B17: 80 | C17: 200 | D17: 1000 | E17: 305 | F17: 20999 | G17: =(F17-F17*$B$4) -> 20999 | I17: 18899
A18: RCN1-1000-0820110 | B18: 80 | C18: 200 | D18: 1100 | E18: 347 | F18: 22725 | G18: =(F18-F18*$B$4) -> 22725 | I18: 20453
A19: RCN1-1000-0820120 | B19: 80 | C19: 200 | D19: 1200 | E19: 389 | F19: 24451 | G19: =(F19-F19*$B$4) -> 24451 | I19: 22006
A20: RCN1-1000-0820130 | B20: 80 | C20: 200 | D20: 1300 | E20: 432 | F20: 26177 | G20: =(F20-F20*$B$4) -> 26177 | I20: 23559
A21: RCN1-1000-0820140 | B21: 80 | C21: 200 | D21: 1400 | E21: 474 | F21: 27903 | G21: =(F21-F21*$B$4) -> 27903 | I21: 25113
A22: RCN1-1000-0820150 | B22: 80 | C22: 200 | D22: 1500 | E22: 516 | F22: 29629 | G22: =(F22-F22*$B$4) -> 29629 | I22: 26666
A23: RCN1-1000-0820160 | B23: 80 | C23: 200 | D23: 1600 | E23: 559 | F23: 31355 | G23: =(F23-F23*$B$4) -> 31355 | I23: 28220
A24: RCN1-1000-0820170 | B24: 80 | C24: 200 | D24: 1700 | E24: 601 | F24: 33081 | G24: =(F24-F24*$B$4) -> 33081 | I24: 29773
A25: RCN1-1000-0820180 | B25: 80 | C25: 200 | D25: 1800 | E25: 643 | F25: 34806 | G25: =(F25-F25*$B$4) -> 34806 | I25: 31325
A26: RCN1-1000-0820190 | B26: 80 | C26: 200 | D26: 1900 | E26: 686 | F26: 36532 | G26: =(F26-F26*$B$4) -> 36532 | I26: 32879
... A1566: RCQF-1000-1438500 | B1566: 140 | C1566: 380 | D1566: 5000 | E1566: 15616 | F1566: 309918 | G1566: =(F1566-F1566*$B$4) -> 309918 | I1566: 278926

Sheet Rommer шаровые краны ГОСТ
A1: Rommer шаровые краны ГОСТ Р 59553-2021
D3: Скидка,% | E3: 0
A6: Фотография | B6: Артикул | C6: Название по ГОСТ Р 59553-2021 | D6: Цена с НДС, РУБ | E6: Цена, с НДС, с учетом скидки, Руб | G6: РИЦ
B7: RBV-0001-2110315 | C7: RBV-0001-2110315 ROMMER Кран шаровой, ВР/ВР, ручка рычаг 1/2" | D7: 379.544 | E7: =D7-D7*$E$3 -> 379.544 | G7: 380
B8: RBV-0001-2110320 | C8: RBV-0001-2110320 ROMMER Кран шаровой, ВР/ВР, ручка рычаг 3/4" | D8: 595.034 | E8: =D8-D8*$E$3 -> 595.034 | G8: 594
B9: RBV-0001-2110325 | C9: RBV-0001-2110325 ROMMER Кран шаровой, ВР/ВР, ручка рычаг 1" | D9: 1154.285 | E9: =D9-D9*$E$3 -> 1154.285 | G9: 1154
B10: RBV-0001-2110332 | C10: RBV-0001-2110332 ROMMER Кран шаровой, ВР/ВР, ручка рычаг 1 1/4" | D10: 1847.021 | E10: =D10-D10*$E$3 -> 1847.021 | G10: 1847
B11: RBV-0001-2110340 | C11: RBV-0001-2110340 ROMMER Кран шаровой, ВР/ВР, ручка рычаг 1 1/2" | D11: 2751.958 | E11: =D11-D11*$E$3 -> 2751.958 | G11: 2751
B12: RBV-0001-2110350 | C12: RBV-0001-2110350 ROMMER Кран шаровой, ВР/ВР, ручка рычаг 2" | D12: 4249.553 | E12: =D12-D12*$E$3 -> 4249.553 | G12: 4249
B13: RBV-0002-2210315 | C13: RBV-0002-2210315 ROMMER Кран шаровой, ВР/НР, ручка рычаг 1/2" | D13: 397.859 | E13: =D13-D13*$E$3 -> 397.859 | G13: 397
B14: RBV-0002-2210320 | C14: RBV-0002-2210320 ROMMER Кран шаровой, ВР/НР, ручка рычаг 3/4" | D14: 630.685 | E14: =D14-D14*$E$3 -> 630.685 | G14: 630
B15: RBV-0002-2210325 | C15: RBV-0002-2210325 ROMMER Кран шаровой, ВР/НР, ручка рычаг 1" | D15: 1251.305 | E15: =D15-D15*$E$3 -> 1251.305 | G15: 1251
B16: RBV-0002-2210332 | C16: RBV-0002-2210332 ROMMER Кран шаровой, ВР/НР, ручка рычаг 1 1/4" | D16: 2183.984 | E16: =D16-D16*$E$3 -> 2183.984 | G16: 2184
B17: RBV-0002-2210340 | C17: RBV-0002-2210340 ROMMER Кран шаровой, ВР/НР, ручка рычаг 1 1/2" | D17: 3133.064 | E17: =D17-D17*$E$3 -> 3133.064 | G17: 3133
B18: RBV-0002-2210350 | C18: RBV-0002-2210350 ROMMER Кран шаровой, ВР/НР, ручка рычаг 2" | D18: 4649.59 | E18: =D18-D18*$E$3 -> 4649.59 | G18: 4650
... B37: RBV-0007-2410232 | C37: RBV-0007-2410232 ROMMER Кран шаровой, НР/НР, ручка бабочка 1 1/4" | D37: 2005.993 | E37: =D37-D37*$E$3 -> 2005.993 | G37: 2005

Sheet Rommer шаровые краны (Китай)
A1: Шаровые краны Rommer (Китай)
H7: СКИДКА, % | I7: 0
A8: ● Материал корпуса, шарика и штока в шаровых кранах Rommer произведены из латуни CW 617N
A9: ● Минимальная толщина стенки крана 1/2"-1,5мм, 3/4"-1,6мм, 1"-1,7мм, 1 1/4"-1,9мм, 1 1/2"-2,0мм, 2"-2,2мм
A10: ● Минимальный размер проходного сечения для 1/2"-14мм, 3/4"-19мм, 1"-24мм, 1 1/4"-30мм, 1 1/2"-37мм, 2"-49мм
A11: ● Материал прокладок EPDM+PTFE
A12: ● Резьба соотвествует ГОСТ 6527-68
A13: ● Рабочая температура -20+130 °С
A14: ● Корпус крана с никелевым покрытием
A15: ● Широкий модельный ряд
A16: ● Каждый шаровый кран Rommer маркируется стикером с у никальным штрих кодом и информацией о кране
A17: ● Гарантия 5 лет
A19: Артикул | B19: Наименование | C19: Размер | D19: PN | E19: DN | F19: Кол-во в упаковке, шт | G19: Цена Руб. | H19: Цена, с НДС, с учетом скидки, Руб | J19: РИЦ
A20: Полнопроходной шаровой кран Rommer ВН/ВН, ручка рычаг серия RBV-0001
A21: RBV-0001-0110315 | B21: Rommer шаровой кран 1/2" ВН/ВН, ручка рычаг RBV-0001-0110315 | C21: 1/2" | D21: 40 | E21: 15 | F21: 30 | G21: 289.54092 | H21: =G21-G21*$I$7 -> 289.54092 | J21: 261
A22: RBV-0001-0110320 | B22: Rommer шаровой кран 3/4" ВН/ВН, ручка рычаг RBV-0001-0110320 | C22: 3/4" | D22: 40 | E22: 20 | F22: 20 | G22: 453.94691 | H22: =G22-G22*$I$7 -> 453.94691 | J22: 409
A23: RBV-0001-0110325 | B23: Rommer шаровой кран 1" ВН/ВН, ручка рычаг RBV-0001-0110325 | C23: 1" | D23: 40 | E23: 25 | F23: 10 | G23: 880.58728 | H23: =G23-G23*$I$7 -> 880.58728 | J23: 793
A24: RBV-0001-0110332 | B24: Rommer шаровой кран 1 1/4" ВН/ВН, ручка рычаг RBV-0001-0110332 | C24: 1 1/4" | D24: 40 | E24: 32 | F24: 6 | G24: 1409.0582 | H24: =G24-G24*$I$7 -> 1409.0582 | J24: 1268
A25: RBV-0001-0110340 | B25: Rommer шаровой кран 1 1/2" ВН/ВН, ручка рычаг RBV-0001-0110340 | C25: 1 1/2" | D25: 32 | E25: 40 | F25: 4 | G25: 2204.3958 | H25: =G25-G25*$I$7 -> 2204.3958 | J25: 1984
A26: RBV-0001-0110350 | B26: Rommer шаровой кран 2" ВН/ВН, ручка рычаг RBV-0001-0110350 | C26: 2" | D26: 32 | E26: 50 | F26: 2 | G26: 3404.0148 | H26: =G26-G26*$I$7 -> 3404.0148 | J26: 3064
A27: Полнопроходной шаровой кран Rommer ВН/НР, ручка рычаг серия RBV-0002
A28: RBV-0002-0210315 | B28: Rommer шаровой кран 1/2" ВН/НР, ручка рычаг RBV-0002-0210315 | C28: 1/2" | D28: 40 | E28: 15 | F28: 25 | G28: 303.51876 | H28: =G28-G28*$I$7 -> 303.51876 | J28: 273
A29: RBV-0002-0210320 | B29: Rommer шаровой кран 3/4" ВН/НР, ручка рычаг RBV-0002-0210320 | C29: 3/4" | D29: 40 | E29: 20 | F29: 20 | G29: 481.14189 | H29: =G29-G29*$I$7 -> 481.14189 | J29: 433
A30: RBV-0002-0210325 | B30: Rommer шаровой кран 1" ВН/НР, ручка рычаг RBV-0002-0210325 | C30: 1" | D30: 40 | E30: 25 | F30: 10 | G30: 954.605 | H30: =G30-G30*$I$7 -> 954.605 | J30: 859
A31: RBV-0002-0210332 | B31: Rommer шаровой кран 1 1/4" ВН/НР, ручка рычаг RBV-0002-0210332 | C31: 1 1/4" | D31: 40 | E31: 32 | F31: 6 | G31: 1666.1268 | H31: =G31-G31*$I$7 -> 1666.1268 | J31: 1500
A32: RBV-0002-0210340 | B32: Rommer шаровой кран 1 1/2" ВН/НР, ручка рычаг RBV-0002-0210340 | C32: 1 1/2" | D32: 32 | E32: 40 | F32: 4 | G32: 2509.6694 | H32: =G32-G32*$I$7 -> 2509.6694 | J32: 2259
A33: RBV-0002-0210350 | B33: Rommer шаровой кран 2" ВН/НР, ручка рычаг RBV-0002-0210350 | C33: 2" | D33: 32 | E33: 50 | F33: 2 | G33: 3724.4604 | H33: =G33-G33*$I$7 -> 3724.4604 | J33: 3352
A34: Полнопроходной шаровой кран Rommer ВН/ВН, ручка бабочка серия RBV-0003
A35: RBV-0003-0110215 | B35: Rommer шаровой кран 1/2" ВН/ВН, ручка бабочка RBV-0003-0110215 | C35: 1/2" | D35: 40 | E35: 15 | F35: 30 | G35: 281.55358 | H35: =G35-G35*$I$7 -> 281.55358 | J35: 253
A36: RBV-0003-0110220 | B36: Rommer шаровой кран 3/4" ВН/ВН, ручка бабочка RBV-0003-0110220 | C36: 3/4" | D36: 40 | E36: 20 | F36: 20 | G36: 441.39539 | H36: =G36-G36*$I$7 -> 441.39539 | J36: 397
A37: RBV-0003-0110225 | B37: Rommer шаровой кран 1" ВН/ВН, ручка бабочка RBV-0003-0110225 | C37: 1" | D37: 40 | E37: 25 | F37: 10 | G37: 861.15821 | H37: =G37-G37*$I$7 -> 861.15821 | J37: 775
A38: RBV-0003-0110232 | B38: Rommer шаровой кран 1 1/4" ВН/ВН, ручка бабочка RBV-0003-0110232 | C38: 1 1/4" | D38: 40 | E38: 32 | F38: 6 | G38: 1362.3119 | H38: =G38-G38*$I$7 -> 1362.3119 | J38: 1226
A39: Полнопроходной шаровой кран Rommer ВН/НР, ручка бабочка серия RBV-0004
A40: RBV-0004-0210215 | B40: Rommer шаровой кран 1/2" ВН/НР, ручка бабочка RBV-0004-0210215 | C40: 1/2" | D40: 40 | E40: 15 | F40: 25 | G40: 295.53142 | H40: =G40-G40*$I$7 -> 295.53142 | J40: 266
A41: RBV-0004-0210220 | B41: Rommer шаровой кран 3/4" ВН/НР, ручка бабочка RBV-0004-0210220 | C41: 3/4" | D41: 40 | E41: 20 | F41: 20 | G41: 472.7742 | H41: =G41-G41*$I$7 -> 472.7742 | J41: 425
A42: RBV-0004-0210225 | B42: Rommer шаровой кран 1" ВН/НР, ручка бабочка RBV-0004-0210225 | C42: 1" | D42: 40 | E42: 25 | F42: 10 | G42: 934.97402 | H42: =G42-G42*$I$7 -> 934.97402 | J42: 841
A43: RBV-0004-0210232 | B43: Rommer шаровой кран 1 1/4" ВН/НР, ручка бабочка RBV-0004-0210232 | C43: 1 1/4" | D43: 40 | E43: 32 | F43: 6 | G43: 1544.3444 | H43: =G43-G43*$I$7 -> 1544.3444 | J43: 1390
A44: Полнопроходной шаровой кран с американкой Rommer ВН/НР, ручка бабочка серия RBV-0005
A45: RBV-0005-0510215 | B45: Rommer шаровой кран с американкой 1/2" ВН/НР, ручка бабочка RBV-0005-0510215 | C45: 1/2" | D45: 40 | E45: 15 | F45: 25 | G45: 397.36995 | H45: =G45-G45*$I$7 -> 397.36995 | J45: 358
A46: RBV-0005-0510220 | B46: Rommer шаровой кран с американкой 3/4" ВН/НР, ручка бабочка RBV-0005-0510220 | C46: 3/4" | D46: 40 | E46: 20 | F46: 15 | G46: 640.12791 | H46: =G46-G46*$I$7 -> 640.12791 | J46: 576
...

Sheet Rommer циркуляционные насосы
A1: Циркуляционные насосы Rommer (Китай)
L3: СКИДКА, % | M3: 0
A5: Модель | B5: Артикул | C5: Номинальный диаметр DN | D5: Присоединительная резьба, дюйм | E5: Напор, м | F5: Мощность, вт | G5: Класс защиты | H5: Монтажная длинна, мм | I5: Кол-во насосов в коробке | J5: Цена Руб. | K5: Цена с НДС, с учетом скидки, РУБ | M5: РИЦ
A6: Циркуляционные насосы Rommer
A7: RCP-0002-2541801 | B7: Циркуляционные насос Rommer 25/40-180 | C7: 25 | D7: 1 1/2" | E7: 4 | F7: 72 | G7: IP44 | H7: 180 | I7: 8 | J7: 3709.651 | K7: =J7-J7*$M$3 -> 3709.651 | M7: 3504
A8: RCP-0002-2561801 | B8: Циркуляционные насос Rommer 25/60-180 | C8: 25 | D8: 1 1/2" | E8: 6 | F8: 93 | G8: IP44 | H8: 180 | I8: 8 | J8: 3843.356 | K8: =J8-J8*$M$3 -> 3843.356 | M8: 3630
A9: RCP-0002-2581801 | B9: Циркуляционные насос Rommer 25/80-180 | C9: 25 | D9: 1 1/2" | E9: 8 | F9: 143 | G9: IP44 | H9: 180 | I9: 6 | J9: 6960.503 | K9: =J9-J9*$M$3 -> 6960.503 | M9: 6575
A10: RCP-0002-3241801 | B10: Циркуляционные насос Rommer 32/40-180 | C10: 32 | D10: 2" | E10: 4 | F10: 72 | G10: IP44 | H10: 180 | I10: 8 | J10: 3950.76 | K10: =J10-J10*$M$3 -> 3950.76 | M10: 3732
A11: RCP-0002-3261801 | B11: Циркуляционные насос Rommer 32/60-180 | C11: 32 | D11: 2" | E11: 6 | F11: 93 | G11: IP44 | H11: 180 | I11: 8 | J11: 4084.542 | K11: =J11-J11*$M$3 -> 4084.542 | M11: 3858
A12: RCP-0002-3281801 | B12: Циркуляционные насос Rommer 32/80-180 | C12: 32 | D12: 2" | E12: 8 | F12: 143 | G12: IP44 | H12: 180 | I12: 6 | J12: 7484.84 | K12: =J12-J12*$M$3 -> 7484.84 | M12: 7069
A13: RCP-0002-2541301 | B13: Циркуляционные насос Rommer 25/40-130 | C13: 25 | D13: 1 1/2" | E13: 4 | F13: 72 | G13: IP44 | H13: 130 | I13: 8 | J13: 3972.419 | K13: =J13-J13*$M$3 -> 3972.419 | M13: 3751
A14: RCP-0002-2561301 | B14: Циркуляционные насос Rommer 25/60-130 | C14: 25 | D14: 1 1/2" | E14: 6 | F14: 93 | G14: IP44 | H14: 130 | I14: 8 | J14: 4113.582 | K14: =J14-J14*$M$3 -> 4113.582 | M14: 3885
A15: RCP-0002-1560130 | B15: Циркуляционный насос Rommer 15/60-130 | C15: 15 | D15: 1" | E15: 6 | F15: 93 | G15: IP44 | H15: 130 | I15: 8 | J15: 4113.582 | K15: =J15-J15*$M$3 -> 4113.582 | M15: 3885
A16: Циркуляционные насосы с частотным регулированием ROMMER PROFI ERTI (ER)
A17: RCP-0003-2540130 | B17: Циркуляционный насос ERTI 25/40-130 с гайками и теплоизоляцией | C17: 25 | D17: 1 1/2" | E17: 4 | F17: 22 | G17: IP44 | H17: 130 | J17: 12368.312 | K17: =J17-J17*$M$3 -> 12368.312 | M17: 11682
A18: RCP-0003-2540180 | B18: Циркуляционный насос ERTI 25/40-180 с гайками и теплоизоляцией | C18: 25 | D18: 1 1/2" | E18: 4 | F18: 22 | G18: IP44 | H18: 180 | J18: 10306.934 | K18: =J18-J18*$M$3 -> 10306.934 | M18: 9734
A19: RCP-0003-2560130 | B19: Циркуляционный насос ERTI 25/60-130 с гайками и теплоизоляцией | C19: 25 | D19: 1 1/2" | E19: 6 | F19: 45 | G19: IP44 | H19: 130 | J19: 12484.34 | K19: =J19-J19*$M$3 -> 12484.34 | M19: 11790
A20: RCP-0003-2560180 | B20: Циркуляционный насос ERTI 25/60-180 с гайками и теплоизоляцией | C20: 25 | D20: 1 1/2" | E20: 6 | F20: 45 | G20: IP44 | H20: 180 | J20: 10314.491 | K20: =J20-J20*$M$3 -> 10314.491 | M20: 9742
A21: RCP-0003-2580180 | B21: Циркуляционный насос ER 25/80-180 с гайками | C21: 25 | D21: 1 1/2" | E21: 8 | F21: 130 | G21: IP44 | H21: 180 | J21: 23874.521 | K21: =J21-J21*$M$3 -> 23874.521 | M21: 22548
A22: RCP-0003-3240180 | B22: Циркуляционный насос ERTI 32/40-180 с гайками и теплоизоляцией | C22: 32 | D22: 2" | E22: 4 | F22: 22 | G22: IP44 | H22: 180 | J22: 10381.316 | K22: =J22-J22*$M$3 -> 10381.316 | M22: 9804
A23: RCP-0003-3260180 | B23: Циркуляционный насос ERTI 32/60-180 с гайками и теплоизоляцией | C23: 32 | D23: 2" | E23: 6 | F23: 45 | G23: IP44 | H23: 180 | J23: 10501.656 | K23: =J23-J23*$M$3 -> 10501.656 | M23: 9918
A24: RCP-0003-3280180 | B24: Циркуляционный насос ER 32/80-180 с гайками | C24: 32 | D24: 2" | E24: 8 | F24: 130 | G24: IP44 | H24: 180 | J24: 24192.861 | K24: =J24-J24*$M$3 -> 24192.861 | M24: 22849
A25: Циркуляционные насосы для ГВС ROMMER PROFI
A26: RCP-0005-151780 | B26: ROMMER PROFI Циркуляционный насос COMFORT для ГВС | C26: 15 | D26: 2 1/2" | E26: 1,7 | F26: 9 | G26: IP44 | H26: 80 | J26: 12725.603 | K26: =J26-J26*$M$3 -> 12725.603 | M26: 12019
A27: RCP-0005-152080 | B27: ROMMER PROFI Циркуляционный насос COMFORT для ГВС с таймером | C27: 15 | D27: 1/2" | E27: 1,7 | F27: 9 | G27: IP44 | H27: 80 | J27: 13998.16 | K27: =J27-J27*$M$3 -> 13998.16 | M27: 13220
A28: RCP-0005-150480 | B28: ROMMER Циркуляционный насос COMFORT для ГВС корпус латунь | C28: 15 | D28: 1/2" | E28: 1,2 | F28: 7 | G28: IP44 | H28: 84 | J28: 6999.091 | K28: =J28-J28*$M$3 -> 6999.091 | M28: 6610
A29: Трехскоростные циркуляционные насосы ROMMER PROFI
A30: RCP-0004-2540130 | B30: RCP-0004-2540130 ROMMER Циркуляционный насос Profi 25/40-130 | C30: 25 | D30: 1 1/2" | E30: 4 | F30: 72 | G30: IP44 | H30: 130 | J30: 5477.461 | K30: =J30-J30*$M$3 -> 5477.461 | M30: 5173
A31: RCP-0004-2540180 | B31: RCP-0004-2540180 ROMMER Циркуляционный насос Profi 25/40-180 | C31: 25 | D31: 1 1/2" | E31: 4 | F31: 72 | G31: IP44 | H31: 180 | J31: 5437.399 | K31: =J31-J31*$M$3 -> 5437.399 | M31: 5135
A32: RCP-0004-2560130 | B32: RCP-0004-2560130 ROMMER Циркуляционный насос Profi 25/60-130 | C32: 25 | D32: 1 1/2" | E32: 6 | F32: 93 | G32: IP44 | H32: 130 | J32: 5830.748 | K32: =J32-J32*$M$3 -> 5830.748 | M32: 5507
A33: RCP-0004-2560180 | B33: RCP-0004-2560180 ROMMER Циркуляционный насос Profi 25/60-180 | C33: 25 | D33: 1 1/2" | E33: 6 | F33: 93 | G33: IP44 | H33: 180 | J33: 5670.06 | K33: =J33-J33*$M$3 -> 5670.06 | M33: 5355
A34: RCP-0004-2580180 | B34: RCP-0004-2580180 ROMMER Циркуляционный насос Profi 25/80-180 | C34: 25 | D34: 1 1/2" | E34: 8 | F34: 165 | G34: IP44 | H34: 180 | J34: 11187.671 | K34: =J34-J34*$M$3 -> 11187.671 | M34: 10566
A35: RCP-0004-3240180 | B35: RCP-0004-3240180 ROMMER Циркуляционный насос Profi 32/40-180 | C35: 32 | D35: 2" | E35: 4 | F35: 72 | G35: IP44 | H35: 180 | J35: 5676.374 | K35: =J35-J35*$M$3 -> 5676.374 | M35: 5361
A36: RCP-0004-3260180 | B36: RCP-0004-3260180 ROMMER Циркуляционный насос Profi 32/60-180 | C36: 32 | D36: 2" | E36: 6 | F36: 93 | G36: IP44 | H36: 180 | J36: 6080.129 | K36: =J36-J36*$M$3 -> 6080.129 | M36: 5743
A37: RCP-0004-3280180 | B37: RCP-0004-3280180 ROMMER Циркуляционный насос Profi 32/80-180 | C37: 32 | D37: 2" | E37: 8 | F37: 270 | G37: IP44 | H37: 180 | J37: 11649.627 | K37: =J37-J37*$M$3 -> 11649.627 | M37: 11002
A38: Частотные циркуляционные насосы EVO
A39: RCP-0030-2540130 | B39: ROMMER PROFI Циркуляционный насос EVO 25/40-130 с гайками и теплоизоляцией | C39: 25 | D39: 1 1/2" | E39: 4 | F39: 22 | G39: IP44 | H39: 130 | J39: 12368.312 | K39: =J39-J39*$M$3 -> 12368.312 | M39: 11682
A40: RCP-0030-2560130 | B40: ROMMER PROFI Циркуляционный насос EVO 25/60-130 с гайками и теплоизоляцией | C40: 25 | D40: 1 1/2" | E40: 4 | F40: 22 | G40: IP44 | H40: 130 | J40: 12484.34 | K40: =J40-J40*$M$3 -> 12484.34 | M40: 11790
A41: RCP-0030-2560180 | B41: ROMMER PROFI Циркуляционный насос EVO 25/60-180 с гайками и теплоизоляцией | C41: 25 | D41: 1 1/2" | E41: 6 | F41: 45 | G41: IP44 | H41: 180 | J41: 10314.491 | K41: =J41-J41*$M$3 -> 10314.491 | M41: 9742
A42: RCP-0030-3240180 | B42: ROMMER PROFI Циркуляционный насос EVO 32/40-180 с гайками и теплоизоляцией | C42: 25 | D42: 1 1/2" | E42: 6 | F42: 45 | G42: IP44 | H42: 180 | J42: 10381.316 | K42: =J42-J42*$M$3 -> 10381.316 | M42: 9804
...

Sheet КНС ROMMER BIOLIFT
A1: Канализационные насосные станции Rommer BIOLIFT (Китай)
A5: Скидка, % | B5: 0
A7: Изобр. | B7: Артикул | C7: Наименование | D7: Применение | E7: Мощность, Вт | F7: Входные патрубки | H7: Режущий механизм | I7: T°C рабочая | J7: T°C max | K7: Цена с НДС, РУБ | L7: Цена с НДС, с учетом скидки, РУБ | N7: РИЦ
B8: RPD-0010-100400 | C8: ROMMER Канализационная насосная установка BIOLIFT R-4 | D8: Для унитаза, раковины, душевой кабины + 1 дополнительные вход | E8: 400 | F8: 1 х 100 мм | G8: 3 х 40 мм | H8: Есть | I8: 65 °С | J8: 80°С в течение 4х часов | K8: 20853.888 | L8: =K8-K8*$B$5 -> 20853.888 | N8: 18537
B9: RPD-0010-100250 | C9: ROMMER Канализационная насосная установка BIOLIFT S-3 | D9: Для раковины, ванной и душа | E9: 250 | F9: - | G9: 3 х 40 мм | H9: Нет | K9: 16457.408 | L9: =K9-K9*$B$5 -> 16457.408 | N9: 14629
B10: RPD-0010-100450 | C10: ROMMER Канализационная насосная установка BIOLIFT R-4S | D10: Для унитаза, раковины, душевой кабины + 1 дополнительные вход | E10: 450 | F10: 1 х 100 мм | G10: 3 х 40 мм | H10: Есть | K10: 23671.494 | L10: =K10-K10*$B$5 -> 23671.494 | N10: 21041
B11: RPD-0010-100500 | C11: ROMMER Канализационная насосная установка BIOLIFT S-3 PLUS | D11: Для раковины, ванной и душа | E11: 450 | F11: - | G11: 3 х 40 мм | H11: Нет | K11: 23671.494 | L11: =K11-K11*$B$5 -> 23671.494 | N11: 21041
B12: RPD-0010-100800 | C12: ROMMER Канализационная насосная установка BIOLIFT R-4 PRO | D12: Для унитаза, раковины, душевой кабины + 1 дополнительные вход | E12: 800 | F12: 1 х 100 мм | G12: 3 х 40 мм | H12: Есть | I12: 35°С | J12: 50 °С | K12: 43078.442 | L12: =K12-K12*$B$5 -> 43078.442 | N12: 38292
A15: Артикул | B15: Наименование | E15: Цена с НДС, РУБ | F15: Цена с НДС, с учетом скидки, РУБ | H15: РИЦ
A16: Принадлежности к насосам
A17: RPD-0000-000010 | B17: Микровыключатель поплавка для ROMMER BIOLIFT / Microswitch | E17: 1651.3743 | F17: =E17-E17*$B$5 -> 1651.3743 | H17: 1835
A18: RPD-0000-001250 | B18: Обратный клапан выпускного патрубка для ROMMER BIOLIFT S-3 / Check valve for 250 | E18: 1487.2626 | F18: =E18-E18*$B$5 -> 1487.2626 | H18: 1653
A19: RPD-0000-001400 | B19: Обратный клапан выпускного патрубка для ROMMER BIOLIFT моделей R-4 / R4S | E19: 1615.4749 | F19: =E19-E19*$B$5 -> 1615.4749 | H19: 1795
A20: RPD-0000-001500 | B20: Обратный клапан выпускного патрубка для ROMMER BIOLIFT R-4S / Check valve for 500 | E20: 1615.4739 | F20: =E20-E20*$B$5 -> 1615.4739 | H20: 1795

Sheet ROMMER HYDROLIFT
A1: Установки водоснабжения Rommer HYDROLIFT (Китай)
N4: Скидка, % | O4: 0
A5: Изобр. | B5: АРТ. | C5: Наименование | D5: Диаметр вход/выход | E5: Мощность, Вт | F5: Частота вращения двигателя, об/мин | G5: H max, м | H5: Q max, м3/ч | I5: T°C | J5: Цена с НДС, РУБ | K5: Цена с НДС с учетом скидки РУБ | N5: РИЦ
B6: RPJ-0010-000550 | C6: ROMMER Установка водоснабжения HYDROLIFT 550 Вт | D6: 1"/1" | E6: 100-550 | F6: 2000-5200 | G6: 45 | H6: 5 | I6: 0...+70 | J6: 41633.095 | K6: =J6-J6*$O$4 -> 41633.095 | N6: 39321
B7: RPJ-0010-001100 | C7: ROMMER Установка водоснабжения HYDROLIFT 1100 Вт | D7: 1"/1" | E7: 500-1100 | F7: 2000-3300 | G7: 53 | H7: 6 | J7: 61941.922 | K7: =J7-J7*$O$4 -> 61941.922 | N7: 58500

Sheet Rommer СПР (Россия)
A1: Стальные панельные радиаторы отопления Rommer (РОССИЯ)
D3: Скидка % | E3: 0
A7: ТИП | B7: Габариты | D7: Тепловая мощность при ΔT=70 | E7: Масса нетто радиатора (справочная), кг | G7: Объём теплоносителя | H7: Цена с НДС, руб. | J7: Цена с НДС, с учетом скидки, руб. | M7: РИЦ | AF7: этот столбец закреплен за рознц | AG7: этот столбец закреплен за риц | AH7: РИЦ | AJ7: розница | AL7: риц
B8: Н, мм | C8: L, мм | D8: Вт | E8: Боковое подключение Compact | F8: Нижнее подключение Ventil | G8: л | H8: Боковое подключение Compact | I8: Нижнее подключение Ventil | J8: Боковое подключение Compact | K8: Нижнее подключение Ventil | M8: Боковое подключение Compact | N8: Нижнее подключение Ventil | AD8: АРТИКУЛ | AE8: Наименование | AF8: Цена с НДС, руб | AG8: РИЦ | AH8: Боковое подключение Compact | AI8: Нижнее подключение Ventil
A9: 11 тип 11 тип - 1 панель, 1 конвектор Монтажная глубина - 62 мм Артикул 11/500/1000 RRS-2010-115100 20 - производство Россия 10 - боковое подключение 11 - тип прибора 5 - высота (500 мм) 100 - длина (1000 мм) | B9: 300 | C9: 400 | D9: 441 | E9: 3.93 | F9: 4.21 | G9: 0.75 | H9: 3681.46 | I9: 6203.76 | J9: =H9-H9*$E$3 -> 3681.46 | K9: =I9-I9*$E$3 -> 6203.76 | M9: 2944 | N9: 4963 | AD9: RRS-2010-103040 | AE9: RRS-2010-103040 ROMMER 10/300/400 радиатор стальной панельный боковое подключение Compact | AF9: 3255.75 | AG9: 2605 | AH9: RRS-2010-113040 | AI9: RRS-2020-113040 | AJ9: 3681.46 | AK9: 6203.76 | AL9: 2944 | AM9: 4963
C10: 500 | D10: 506 | E10: 4.69 | F10: 4.97 | G10: 0.94 | H10: 4219.71 | I10: 6739.58 | J10: =H10-H10*$E$3 -> 4219.71 | K10: =I10-I10*$E$3 -> 6739.58 | M10: 3376 | N10: 5392 | AD10: RRS-2010-103050 | AE10: RRS-2010-103050 ROMMER 10/300/500 радиатор стальной панельный боковое подключение Compact | AF10: 3705.5 | AG10: 2965 | AH10: RRS-2010-113050 | AI10: RRS-2020-113050 | AJ10: 4219.71 | AK10: 6739.58 | AL10: 3376 | AM10: 5392
C11: 600 | D11: 570 | E11: 5.46 | F11: 5.74 | G11: 1.13 | H11: 4755.23 | I11: 7308.64 | J11: =H11-H11*$E$3 -> 4755.23 | K11: =I11-I11*$E$3 -> 7308.64 | M11: 3804 | N11: 5846 | AD11: RRS-2010-103060 | AE11: RRS-2010-103060 ROMMER 10/300/600 радиатор стальной панельный боковое подключение Compact | AF11: 4199.04 | AG11: 3359 | AH11: RRS-2010-113060 | AI11: RRS-2020-113060 | AJ11: 4755.23 | AK11: 7308.64 | AL11: 3804 | AM11: 5846
C12: 700 | D12: 635 | E12: 6.22 | F12: 6.5 | G12: 1.32 | H12: 5275 | I12: 7841.23 | J12: =H12-H12*$E$3 -> 5275 | K12: =I12-I12*$E$3 -> 7841.23 | M12: 4220 | N12: 6273 | AD12: RRS-2010-103070 | AE12: RRS-2010-103070 ROMMER 10/300/700 радиатор стальной панельный боковое подключение Compact | AF12: 4664.71 | AG12: 3732 | AH12: RRS-2010-113070 | AI12: RRS-2020-113070 | AJ12: 5275 | AK12: 7841.23 | AL12: 4220 | AM12: 6273
C13: 800 | D13: 699 | E13: 6.98 | F13: 7.26 | G13: 1.51 | H13: 5866.68 | I13: 8413.72 | J13: =H13-H13*$E$3 -> 5866.68 | K13: =I13-I13*$E$3 -> 8413.72 | M13: 4692 | N13: 6732 | AD13: RRS-2010-103080 | AE13: RRS-2010-103080 ROMMER 10/300/800 радиатор стальной панельный боковое подключение Compact | AF13: 5158.25 | AG13: 4127 | AH13: RRS-2010-113080 | AI13: RRS-2020-113080 | AJ13: 5866.68 | AK13: 8413.72 | AL13: 4692 | AM13: 6732
C14: 900 | D14: 764 | E14: 7.75 | F14: 8.03 | G14: 1.7 | H14: 6380.86 | I14: 8949.48 | J14: =H14-H14*$E$3 -> 6380.86 | K14: =I14-I14*$E$3 -> 8949.48 | M14: 5105 | N14: 7160 | AD14: RRS-2010-103090 | AE14: RRS-2010-103090 ROMMER 10/300/900 радиатор стальной панельный боковое подключение Compact | AF14: 5568.2 | AG14: 4455 | AH14: RRS-2010-113090 | AI14: RRS-2020-113090 | AJ14: 6380.86 | AK14: 8949.48 | AL14: 5105 | AM14: 7160
C15: 1000 | D15: 829 | E15: 8.52 | F15: 8.8 | G15: 1.89 | H15: 6997.88 | I15: 9551.83 | J15: =H15-H15*$E$3 -> 6997.88 | K15: =I15-I15*$E$3 -> 9551.83 | M15: 5599 | N15: 7642 | AD15: RRS-2010-103100 | AE15: RRS-2010-103100 ROMMER 10/300/1000 радиатор стальной панельный боковое подключение Compact | AF15: 5985.13 | AG15: 4788 | AH15: RRS-2010-113100 | AI15: RRS-2020-113100 | AJ15: 6997.88 | AK15: 9551.83 | AL15: 5599 | AM15: 7642
C16: 1100 | D16: 893 | E16: 9.28 | F16: 9.56 | G16: 2.08 | H16: 7842.73 | I16: 10409.72 | J16: =H16-H16*$E$3 -> 7842.73 | K16: =I16-I16*$E$3 -> 10409.72 | M16: 6275 | N16: 8328 | AD16: RRS-2010-103110 | AE16: RRS-2010-103110 ROMMER 10/300/1100 радиатор стальной панельный боковое подключение Compact | AF16: 6751.02 | AG16: 5401 | AH16: RRS-2010-113110 | AI16: RRS-2020-113110 | AJ16: 7842.73 | AK16: 10409.72 | AL16: 6275 | AM16: 8328
C17: 1200 | D17: 958 | E17: 10.04 | F17: 10.32 | G17: 2.27 | H17: 8407.92 | I17: 10962.57 | J17: =H17-H17*$E$3 -> 8407.92 | K17: =I17-I17*$E$3 -> 10962.57 | M17: 6726 | N17: 8770 | AD17: RRS-2010-103120 | AE17: RRS-2010-103120 ROMMER 10/300/1200 радиатор стальной панельный боковое подключение Compact | AF17: 7251.91 | AG17: 5802 | AH17: RRS-2010-113120 | AI17: RRS-2020-113120 | AJ17: 8407.92 | AK17: 10962.57 | AL17: 6726 | AM17: 8770
C18: 1300 | D18: 1022 | E18: 10.8 | F18: 11.08 | G18: 2.46 | H18: 8923.83 | I18: 11367.97 | J18: =H18-H18*$E$3 -> 8923.83 | K18: =I18-I18*$E$3 -> 11367.97 | M18: 7138 | N18: 9094 | AD18: RRS-2010-103130 | AE18: RRS-2010-103130 ROMMER 10/300/1300 радиатор стальной панельный боковое подключение Compact | AF18: 7678.34 | AG18: 6143 | AH18: RRS-2010-113130 | AI18: RRS-2020-113130 | AJ18: 8923.83 | AK18: 11367.97 | AL18: 7138 | AM18: 9094
C19: 1400 | D19: 1087 | E19: 11.57 | F19: 11.85 | G19: 2.65 | H19: 9502.99 | I19: 12064.98 | J19: =H19-H19*$E$3 -> 9502.99 | K19: =I19-I19*$E$3 -> 12064.98 | M19: 7602 | N19: 9653 | AD19: RRS-2010-103140 | AE19: RRS-2010-103140 ROMMER 10/300/1400 радиатор стальной панельный боковое подключение Compact | AF19: 8147.97 | AG19: 6518 | AH19: RRS-2010-113140 | AI19: RRS-2020-113140 | AJ19: 9502.99 | AK19: 12064.98 | AL19: 7602 | AM19: 9653
C20: 1500 | D20: 1152 | E20: 12.33 | F20: 12.61 | G20: 2.84 | H20: 10037.99 | I20: 12580.25 | J20: =H20-H20*$E$3 -> 10037.99 | K20: =I20-I20*$E$3 -> 12580.25 | M20: 8030 | N20: 10064 | AD20: RRS-2010-103150 | AE20: RRS-2010-103150 ROMMER 10/300/1500 радиатор стальной панельный боковое подключение Compact | AF20: 8570.34 | AG20: 6855 | AH20: RRS-2010-113150 | AI20: RRS-2020-113150 | AJ20: 10037.99 | AK20: 12580.25 | AL20: 8030 | AM20: 10064
C21: 1600 | D21: 1216 | E21: 13.09 | F21: 13.37 | G21: 3.03 | H21: 10731.25 | I21: 13352.97 | J21: =H21-H21*$E$3 -> 10731.25 | K21: =I21-I21*$E$3 -> 13352.97 | M21: 8585 | N21: 10682 | AD21: RRS-2010-103160 | AE21: RRS-2010-103160 ROMMER 10/300/1600 радиатор стальной панельный боковое подключение Compact | AF21: 9167.91 | AG21: 7334 | AH21: RRS-2010-113160 | AI21: RRS-2020-113160 | AJ21: 10731.25 | AK21: 13352.97 | AL21: 8585 | AM21: 10682
... C33: 3000 | D33: 2201 | E33: 23.84 | F33: 24.13 | G33: 5.69 | H33: 20923.3 | I33: 24421.61 | J33: =H33-H33*$E$3 -> 20923.3 | K33: =I33-I33*$E$3 -> 24421.61 | M33: 16739 | N33: 19537 | AD33: RRS-2010-103300 | AE33: RRS-2010-103300 ROMMER 10/300/3000 радиатор стальной панельный боковое подключение Compact | AF33: 17623.21 | AG33: 14098 | AH33: RRS-2010-113300 | AI33: RRS-2020-113300 | AJ33: 20923.3 | AK33: 24421.61 | AL33: 16739 | AM33: 19537
B34: 400 | C34: 400 | D34: 488.25 | E34: 4.92 | F34: 5.225 | G34: 0.88 | H34: 4213.27 | I34: 6866.58 | J34: =H34-H34*$E$3 -> 4213.27 | K34: =I34-I34*$E$3 -> 6866.58 | M34: 3371 | N34: 5494 | AD34: RRS-2010-104040 | AE34: RRS-2010-104040 ROMMER 10/400/400 радиатор стальной панельный боковое подключение Compact | AF34: 3586.74 | AG34: 2870 | AH34: RRS-2010-114040 | AI34: RRS-2020-114040 | AJ34: 4213.27 | AK34: 6866.58 | AL34: 3371 | AM34: 5494
C35: 500 | D35: 609.75 | E35: 6.15 | F35: 6.455 | G35: 1.1 | H35: 4823.69 | I35: 7566.34 | J35: =H35-H35*$E$3 -> 4823.69 | K35: =I35-I35*$E$3 -> 7566.34 | M35: 3859 | N35: 6053 | AD35: RRS-2010-104050 | AE35: RRS-2010-104050 ROMMER 10/400/500 радиатор стальной панельный боковое подключение Compact | AF35: 4085.83 | AG35: 3269 | AH35: RRS-2010-114050 | AI35: RRS-2020-114050 | AJ35: 4823.69 | AK35: 7566.34 | AL35: 3859 | AM35: 6053
C36: 600 | D36: 732.375 | E36: 7.38 | F36: 7.685 | G36: 1.32 | H36: 5438.2 | I36: 8295.3 | J36: =H36-H36*$E$3 -> 5438.2 | K36: =I36-I36*$E$3 -> 8295.3 | M36: 4351 | N36: 6636 | AD36: RRS-2010-104060 | AE36: RRS-2010-104060 ROMMER 10/400/600 радиатор стальной панельный боковое подключение Compact | AF36: 4629.29 | AG36: 3703 | AH36: RRS-2010-114060 | AI36: RRS-2020-114060 | AJ36: 5438.2 | AK36: 8295.3 | AL36: 4351 | AM36: 6636
C37: 700 | D37: 853.875 | E37: 8.61 | F37: 8.915 | G37: 1.54 | H37: 6048.62 | I37: 8890.83 | J37: =H37-H37*$E$3 -> 6048.62 | K37: =I37-I37*$E$3 -> 8890.83 | M37: 4839 | N37: 7113 | AD37: RRS-2010-104070 | AE37: RRS-2010-104070 ROMMER 10/400/700 радиатор стальной панельный боковое подключение Compact | AF37: 5149.13 | AG37: 4119 | AH37: RRS-2010-114070 | AI37: RRS-2020-114070 | AJ37: 6048.62 | AK37: 8890.83 | AL37: 4839 | AM37: 7113
C38: 800 | D38: 976.5 | E38: 9.84 | F38: 10.145 | G38: 1.76 | H38: 6701.16 | I38: 9587.27 | J38: =H38-H38*$E$3 -> 6701.16 | K38: =I38-I38*$E$3 -> 9587.27 | M38: 5361 | N38: 7670 | AD38: RRS-2010-104080 | AE38: RRS-2010-104080 ROMMER 10/400/800 радиатор стальной панельный боковое подключение Compact | AF38: 5704.65 | AG38: 4563 | AH38: RRS-2010-114080 | AI38: RRS-2020-114080 | AJ38: 6701.16 | AK38: 9587.27 | AL38: 5361 | AM38: 7670
C39: 900 | D39: 1098 | E39: 11.07 | F39: 11.375 | G39: 1.98 | H39: 7319.81 | I39: 10215.32 | J39: =H39-H39*$E$3 -> 7319.81 | K39: =I39-I39*$E$3 -> 10215.32 | M39: 5856 | N39: 8172 | AD39: RRS-2010-104090 | AE39: RRS-2010-104090 ROMMER 10/400/900 радиатор стальной панельный боковое подключение Compact | AF39: 6075.76 | AG39: 4860 | AH39: RRS-2010-114090 | AI39: RRS-2020-114090 | AJ39: 7319.81 | AK39: 10215.32 | AL39: 5856 | AM39: 8172
C40: 1000 | D40: 1220.625 | E40: 12.3 | F40: 12.3 | G40: 2.2 | H40: 8010.37 | I40: 10911.79 | J40: =H40-H40*$E$3 -> 8010.37 | K40: =I40-I40*$E$3 -> 10911.79 | M40: 6408 | N40: 8730 | AD40: RRS-2010-104100 | AE40: RRS-2010-104100 ROMMER 10/400/1000 радиатор стальной панельный боковое подключение Compact | AF40: 6615.62 | AG40: 5292 | AH40: RRS-2010-114100 | AI40: RRS-2020-114100 | AJ40: 8010.37 | AK40: 10911.79 | AL40: 6408 | AM40: 8730
C41: 1100 | D41: 1342.125 | E41: 13.53 | F41: 13.835 | G41: 2.42 | H41: 8807.83 | I41: 11782.8 | J41: =H41-H41*$E$3 -> 8807.83 | K41: =I41-I41*$E$3 -> 11782.8 | M41: 7046 | N41: 9427 | AD41: RRS-2010-104110 | AE41: RRS-2010-104110 ROMMER 10/400/1100 радиатор стальной панельный боковое подключение Compact | AF41: 7272.68 | AG41: 5818 | AH41: RRS-2010-114110 | AI41: RRS-2020-114110 | AJ41: 8807.83 | AK41: 11782.8 | AL41: 7046 | AM41: 9427
C42: 1200 | D42: 1464.75 | E42: 14.76 | F42: 15.065 | G42: 2.64 | H42: 9478.39 | I42: 12420.85 | J42: =H42-H42*$E$3 -> 9478.39 | K42: =I42-I42*$E$3 -> 12420.85 | M42: 7583 | N42: 9936 | AD42: RRS-2010-104120 | AE42: RRS-2010-104120 ROMMER 10/400/1200 радиатор стальной панельный боковое подключение Compact | AF42: 7744.32 | AG42: 6195 | AH42: RRS-2010-114120 | AI42: RRS-2020-114120 | AJ42: 9478.39 | AK42: 12420.85 | AL42: 7583 | AM42: 9936
